BEGIN:VCALENDAR
VERSION:2.0
PRODID:-//Willy-Brandt-Realschule - ECPv6.15.20//NONSGML v1.0//EN
CALSCALE:GREGORIAN
METHOD:PUBLISH
X-WR-CALNAME:Willy-Brandt-Realschule
X-ORIGINAL-URL:https://willy-brandt-realschule.de
X-WR-CALDESC:Veranstaltungen für Willy-Brandt-Realschule
REFRESH-INTERVAL;VALUE=DURATION:PT1H
X-Robots-Tag:noindex
X-PUBLISHED-TTL:PT1H
BEGIN:VTIMEZONE
TZID:UTC
BEGIN:STANDARD
TZOFFSETFROM:+0000
TZOFFSETTO:+0000
TZNAME:UTC
DTSTART:20240101T000000
END:STANDARD
END:VTIMEZONE
BEGIN:VEVENT
DTSTART;TZID=UTC:20250703T183000
DTEND;TZID=UTC:20250703T183000
DTSTAMP:20260419T221721
CREATED:20250529T150349Z
LAST-MODIFIED:20250529T150349Z
UID:1279-1751567400-1751567400@willy-brandt-realschule.de
SUMMARY:Elternabend für kommende Fünftklässler
DESCRIPTION:
URL:https://willy-brandt-realschule.de/event/elternabend-fuer-kommende-fuenftklaessler/
END:VEVENT
BEGIN:VEVENT
DTSTART;TZID=UTC:20250718T170000
DTEND;TZID=UTC:20250718T220000
DTSTAMP:20260419T221721
CREATED:20250529T145452Z
LAST-MODIFIED:20250529T145453Z
UID:1264-1752858000-1752876000@willy-brandt-realschule.de
SUMMARY:Entlassfeier der Abschlussklassen
DESCRIPTION:Ort: Kulturhalle Wilferdingen
URL:https://willy-brandt-realschule.de/event/entlassfeier-der-abschlussklassen/
END:VEVENT
BEGIN:VEVENT
DTSTART;VALUE=DATE:20250721
DTEND;VALUE=DATE:20250722
DTSTAMP:20260419T221721
CREATED:20250529T145616Z
LAST-MODIFIED:20250529T145616Z
UID:1267-1753056000-1753142399@willy-brandt-realschule.de
SUMMARY:Bücherabgabe Kl. 5-7
DESCRIPTION:
URL:https://willy-brandt-realschule.de/event/buecherabgabe-kl-5-7/
END:VEVENT
BEGIN:VEVENT
DTSTART;VALUE=DATE:20250722
DTEND;VALUE=DATE:20250723
DTSTAMP:20260419T221721
CREATED:20250529T145700Z
LAST-MODIFIED:20250529T145700Z
UID:1269-1753142400-1753228799@willy-brandt-realschule.de
SUMMARY:Bücherabgabe Kl. 8-9
DESCRIPTION:
URL:https://willy-brandt-realschule.de/event/buecherabgabe-kl-8-9/
END:VEVENT
BEGIN:VEVENT
DTSTART;VALUE=DATE:20250728
DTEND;VALUE=DATE:20250729
DTSTAMP:20260419T221721
CREATED:20250529T145829Z
LAST-MODIFIED:20250529T145829Z
UID:1271-1753660800-1753747199@willy-brandt-realschule.de
SUMMARY:Ausflugstag
DESCRIPTION:
URL:https://willy-brandt-realschule.de/event/ausflugstag/
END:VEVENT
BEGIN:VEVENT
DTSTART;VALUE=DATE:20250729
DTEND;VALUE=DATE:20250730
DTSTAMP:20260419T221721
CREATED:20250529T145918Z
LAST-MODIFIED:20250529T145918Z
UID:1273-1753747200-1753833599@willy-brandt-realschule.de
SUMMARY:Sporttag
DESCRIPTION:
URL:https://willy-brandt-realschule.de/event/sporttag/
END:VEVENT
BEGIN:VEVENT
DTSTART;VALUE=DATE:20250731
DTEND;VALUE=DATE:20250915
DTSTAMP:20260419T221721
CREATED:20250529T150109Z
LAST-MODIFIED:20250529T150109Z
UID:1277-1753920000-1757894399@willy-brandt-realschule.de
SUMMARY:Sommerferien
DESCRIPTION:
URL:https://willy-brandt-realschule.de/event/sommerferien/
END:VEVENT
END:VCALENDAR