BEGIN:VCALENDAR
VERSION:2.0
PRODID:-//Willy-Brandt-Realschule - ECPv6.15.20//NONSGML v1.0//EN
CALSCALE:GREGORIAN
METHOD:PUBLISH
X-ORIGINAL-URL:https://willy-brandt-realschule.de
X-WR-CALDESC:Veranstaltungen für Willy-Brandt-Realschule
REFRESH-INTERVAL;VALUE=DURATION:PT1H
X-Robots-Tag:noindex
X-PUBLISHED-TTL:PT1H
BEGIN:VTIMEZONE
TZID:UTC
BEGIN:STANDARD
TZOFFSETFROM:+0000
TZOFFSETTO:+0000
TZNAME:UTC
DTSTART:20240101T000000
END:STANDARD
END:VTIMEZONE
BEGIN:VEVENT
DTSTART;VALUE=DATE:20250623
DTEND;VALUE=DATE:20250624
DTSTAMP:20260420T010406
CREATED:20250529T144709Z
LAST-MODIFIED:20250529T144709Z
UID:1254-1750636800-1750723199@willy-brandt-realschule.de
SUMMARY:Nachtermin Deutschprüfung
DESCRIPTION:
URL:https://willy-brandt-realschule.de/event/nachtermin-deutschpruefung/
END:VEVENT
END:VCALENDAR