BEGIN:VCALENDAR
VERSION:2.0
PRODID:-//Willy-Brandt-Realschule - ECPv6.15.20//NONSGML v1.0//EN
CALSCALE:GREGORIAN
METHOD:PUBLISH
X-ORIGINAL-URL:https://willy-brandt-realschule.de
X-WR-CALDESC:Veranstaltungen für Willy-Brandt-Realschule
REFRESH-INTERVAL;VALUE=DURATION:PT1H
X-Robots-Tag:noindex
X-PUBLISHED-TTL:PT1H
BEGIN:VTIMEZONE
TZID:UTC
BEGIN:STANDARD
TZOFFSETFROM:+0000
TZOFFSETTO:+0000
TZNAME:UTC
DTSTART:20240101T000000
END:STANDARD
END:VTIMEZONE
BEGIN:VEVENT
DTSTART;TZID=UTC:20250529T080000
DTEND;TZID=UTC:20250529T170000
DTSTAMP:20260420T022225
CREATED:20250529T145059Z
LAST-MODIFIED:20250529T145059Z
UID:1260-1748505600-1748538000@willy-brandt-realschule.de
SUMMARY:Nachtermin Prüfung Wahlpflichtfach
DESCRIPTION:
URL:https://willy-brandt-realschule.de/event/nachtermin-pruefung-wahlpflichtfach/
END:VEVENT
BEGIN:VEVENT
DTSTART;TZID=UTC:20250529T080000
DTEND;TZID=UTC:20250529T170000
DTSTAMP:20260420T022225
CREATED:20250529T150012Z
LAST-MODIFIED:20250529T150012Z
UID:1275-1748505600-1748538000@willy-brandt-realschule.de
SUMMARY:Zeugnisausgabe
DESCRIPTION:
URL:https://willy-brandt-realschule.de/event/zeugnisausgabe/
END:VEVENT
END:VCALENDAR